BEGIN:VCALENDAR
VERSION:2.0
PRODID:-//wp-events-plugin.com//7.2.3.1//EN
TZID:America/Mexico_City
X-WR-TIMEZONE:America/Mexico_City
BEGIN:VEVENT
UID:3081@bizarro.fm
DTSTART;TZID=America/Mexico_City:20240323T160000
DTEND;TZID=America/Mexico_City:20240323T180000
DTSTAMP:20231209T180417Z
URL:https://bizarro.fm/conciertos/the-maine/
SUMMARY:The Maine
DESCRIPTION:
ATTACH;FMTTYPE=image/jpeg:https://bizarro.fm/wp-content/uploads/2023/12/th
 e-maine-cdmx-2024.webp
LOCATION:Lunario del Auditorio Nacional\, Av Paseo de la Reforma 50\, Polan
 co\, Ciudad de México\, 11580\, Miguel Hidalgo\, México
GEO:19.42481;-99.194826
X-APPLE-STRUCTURED-LOCATION;VALUE=URI;X-ADDRESS=Av Paseo de la Reforma 50\,
  Polanco\, Ciudad de México\, 11580\, Miguel Hidalgo\, México;X-APPLE-RA
 DIUS=100;X-TITLE=Lunario del Auditorio Nacional:geo:19.42481,-99.194826
END:VEVENT
BEGIN:VTIMEZONE
TZID:America/Mexico_City
X-LIC-LOCATION:America/Mexico_City
BEGIN:STANDARD
DTSTART:20230324T160000
TZOFFSETFROM:-0600
TZOFFSETTO:-0600
TZNAME:CST
END:STANDARD
END:VTIMEZONE
END:VCALENDAR