BEGIN:VCALENDAR
VERSION:2.0
PRODID:-//wp-events-plugin.com//7.2.3.1//EN
TZID:America/Mexico_City
X-WR-TIMEZONE:America/Mexico_City
BEGIN:VEVENT
UID:3070@bizarro.fm
DTSTART;TZID=America/Mexico_City:20240215T210000
DTEND;TZID=America/Mexico_City:20240215T234500
DTSTAMP:20240118T020557Z
URL:https://bizarro.fm/conciertos/los-temerarios-2/
SUMMARY:Los Temerarios fecha 02
DESCRIPTION:
ATTACH;FMTTYPE=image/jpeg:https://bizarro.fm/wp-content/uploads/2023/11/te
 merarios.webp
LOCATION:Arena Ciudad de México\, Av. de las Granjas 800\, Santa Barbara\,
  Azcapotzalco\, Ciudad de México\, 02230\, Ciudad de México\, México
GEO:19.495698;-99.173882
X-APPLE-STRUCTURED-LOCATION;VALUE=URI;X-ADDRESS=Av. de las Granjas 800\, Sa
 nta Barbara\, Azcapotzalco\, Ciudad de México\, 02230\, Ciudad de México
 \, México;X-APPLE-RADIUS=100;X-TITLE=Arena Ciudad de México:geo:19.49569
 8,-99.173882
END:VEVENT
BEGIN:VTIMEZONE
TZID:America/Mexico_City
X-LIC-LOCATION:America/Mexico_City
BEGIN:STANDARD
DTSTART:20230215T210000
TZOFFSETFROM:-0600
TZOFFSETTO:-0600
TZNAME:CST
END:STANDARD
END:VTIMEZONE
END:VCALENDAR