BEGIN:VCALENDAR
VERSION:2.0
PRODID:-//wp-events-plugin.com//7.2.3.1//EN
TZID:America/Mexico_City
X-WR-TIMEZONE:America/Mexico_City
BEGIN:VEVENT
UID:3073@bizarro.fm
DTSTART;TZID=America/Mexico_City:20240223T203000
DTEND;TZID=America/Mexico_City:20240223T234500
DTSTAMP:20240217T192635Z
URL:https://bizarro.fm/conciertos/caloncho/
SUMMARY:Caloncho
DESCRIPTION:
ATTACH;FMTTYPE=image/jpeg:https://bizarro.fm/wp-content/uploads/2023/12/Ca
 loncho-Flyer.webp
LOCATION:Auditorio Nacional próximos eventos\, Av Paseo de la Reforma 50\,
  Miguel Hidalgo\, Ciudad de México\, 11580\, México
GEO:19.42481;-99.194826
X-APPLE-STRUCTURED-LOCATION;VALUE=URI;X-ADDRESS=Av Paseo de la Reforma 50\,
  Miguel Hidalgo\, Ciudad de México\, 11580\, México;X-APPLE-RADIUS=100;X
 -TITLE=Auditorio Nacional próximos eventos:geo:19.42481,-99.194826
END:VEVENT
BEGIN:VTIMEZONE
TZID:America/Mexico_City
X-LIC-LOCATION:America/Mexico_City
BEGIN:STANDARD
DTSTART:20230223T203000
TZOFFSETFROM:-0600
TZOFFSETTO:-0600
TZNAME:CST
END:STANDARD
END:VTIMEZONE
END:VCALENDAR